BEGIN:VCALENDAR
VERSION:2.0
CALSCALE:GREGORIAN
PRODID:-//Diputació de Barcelona//DibaCMS//EN
BEGIN:VEVENT
UID:29813
DTSTAMP:20260425T182439
DTSTART:20240613T183000
DTEND:20240613T183000
SUMMARY:Xerrada. El misteri de la música, explicat des de la neurociencia
LOCATION:
METHOD:PUBLISH
X-WR-CALNAME:oac@montcada.org
X-WR-TIMEZONE:Europe/Madrid
DESCRIPTION:Visibilitzem les dones músiques de Montcada i Reixac

URI:https://www.montcada.cat/actualitat/agenda/xerrada-el-misteri-de-la-musica-explicat-des-de-la-neurociencia.html
CLASS:PUBLIC
END:VEVENT
END:VCALENDAR
