BEGIN:VCALENDAR
VERSION:2.0
CALSCALE:GREGORIAN
PRODID:-//Diputació de Barcelona//DibaCMS//EN
BEGIN:VEVENT
UID:29812
DTSTAMP:20260425T150113
DTSTART:20240620T190000
DTEND:20240620T190000
SUMMARY:Xerrada. 'El arte de materializar los sueños'
LOCATION:Parc Salvador Allende, s/n 08110 Montcada i Reixac
METHOD:PUBLISH
X-WR-CALNAME:oac@montcada.org
X-WR-TIMEZONE:Europe/Madrid
DESCRIPTION:A càrrec de Marcelo de Villota

URI:https://www.montcada.cat/actualitat/agenda/xerrada-el-arte-de-materializar-los-suenos.html
CLASS:PUBLIC
END:VEVENT
END:VCALENDAR
