BEGIN:VCALENDAR
VERSION:2.0
CALSCALE:GREGORIAN
PRODID:-//Diputació de Barcelona//DibaCMS//EN
BEGIN:VEVENT
UID:29805
DTSTAMP:20260422T070418
DTSTART:20240615T150000
DTEND:20240615T150000
SUMMARY:Acte. Festa escola Mas Rampinyo
LOCATION:Carrer Joan Miró, 13-15       08110 Montcada i Reixac
METHOD:PUBLISH
X-WR-CALNAME:oac@montcada.org
X-WR-TIMEZONE:Europe/Madrid
DESCRIPTION:
URI:https://www.montcada.cat/ajuntament/govern/agenda-politica/hemeroteca-agenda-politica/acte-festa-escola-mas-rampinyo.html
CLASS:PUBLIC
END:VEVENT
END:VCALENDAR
