BEGIN:VCALENDAR
VERSION:2.0
CALSCALE:GREGORIAN
PRODID:-//Diputació de Barcelona//DibaCMS//EN
BEGIN:VEVENT
UID:29804
DTSTAMP:20260422T081947
DTSTART:20240615T120000
DTEND:20240615T120000
SUMMARY:Acte. Inauguració i visita teatralitzada Torre de l'Aigua
LOCATION:Parc de les Aigües  08110 Montcada i Reixac
METHOD:PUBLISH
X-WR-CALNAME:oac@montcada.org
X-WR-TIMEZONE:Europe/Madrid
DESCRIPTION:
URI:https://www.montcada.cat/ajuntament/govern/agenda-politica/hemeroteca-agenda-politica/acte-inauguracio-i-visita-teatralitzada-torre-de-laigua.html
CLASS:PUBLIC
END:VEVENT
END:VCALENDAR
