BEGIN:VCALENDAR
VERSION:2.0
CALSCALE:GREGORIAN
PRODID:-//Diputació de Barcelona//DibaCMS//EN
BEGIN:VEVENT
UID:29803
DTSTAMP:20260422T040436
DTSTART:20240614T193000
DTEND:20240614T193000
SUMMARY:Acte. Festa escola El Turó
LOCATION:Carrer Montiu, 18       08110 Montcada i Reixac
METHOD:PUBLISH
X-WR-CALNAME:oac@montcada.org
X-WR-TIMEZONE:Europe/Madrid
DESCRIPTION:
URI:https://www.montcada.cat/ajuntament/govern/agenda-politica/hemeroteca-agenda-politica/acte-festa-escola-el-turo.html
CLASS:PUBLIC
END:VEVENT
END:VCALENDAR
