BEGIN:VCALENDAR
VERSION:2.0
CALSCALE:GREGORIAN
PRODID:-//Diputació de Barcelona//DibaCMS//EN
BEGIN:VEVENT
UID:29801
DTSTAMP:20260422T040711
DTSTART:20240614T171500
DTEND:20240614T171500
SUMMARY:Acte. Playback Salvador Allende
LOCATION:Parc Salvador Allende, s/n 08110 Montcada i Reixac
METHOD:PUBLISH
X-WR-CALNAME:oac@montcada.org
X-WR-TIMEZONE:Europe/Madrid
DESCRIPTION:
URI:https://www.montcada.cat/ajuntament/govern/agenda-politica/hemeroteca-agenda-politica/acte-playback-salvador-allende.html
CLASS:PUBLIC
END:VEVENT
END:VCALENDAR
