BEGIN:VCALENDAR
VERSION:2.0
CALSCALE:GREGORIAN
PRODID:-//Diputació de Barcelona//DibaCMS//EN
BEGIN:VEVENT
UID:29800
DTSTAMP:20260422T081203
DTSTART:20240614T160000
DTEND:20240614T160000
SUMMARY:Acte. Inauguració temporada piscina d'estiu
LOCATION:Carrer Bonavista, s/n       08110 Montcada i Reixac
METHOD:PUBLISH
X-WR-CALNAME:oac@montcada.org
X-WR-TIMEZONE:Europe/Madrid
DESCRIPTION:
URI:https://www.montcada.cat/ajuntament/govern/agenda-politica/hemeroteca-agenda-politica/acte-inauguracio-temporada-piscina-destiu.html
CLASS:PUBLIC
END:VEVENT
END:VCALENDAR
