BEGIN:VCALENDAR
VERSION:2.0
CALSCALE:GREGORIAN
PRODID:-//Diputació de Barcelona//DibaCMS//EN
BEGIN:VEVENT
UID:29795
DTSTAMP:20260422T081856
DTSTART:20240613T183000
DTEND:20240613T183000
SUMMARY:Acte. Xerrada El misteri de la música des de la neurociència
LOCATION:Carrer Major, 32 - Carrer Domènec Fins, 15 08110 Montcada i Reixac
METHOD:PUBLISH
X-WR-CALNAME:oac@montcada.org
X-WR-TIMEZONE:Europe/Madrid
DESCRIPTION:
URI:https://www.montcada.cat/ajuntament/govern/agenda-politica/hemeroteca-agenda-politica/acte-xerrada-el-misteri-de-la-musica-des-de-la-neurociencia.html
CLASS:PUBLIC
END:VEVENT
END:VCALENDAR
