BEGIN:VCALENDAR
VERSION:2.0
CALSCALE:GREGORIAN
PRODID:-//Diputació de Barcelona//DibaCMS//EN
BEGIN:VEVENT
UID:29791
DTSTAMP:20260422T094001
DTSTART:20240612T133000
DTEND:20240612T133000
SUMMARY:Acte. Cloenda Plans d'Ocupació AMB 2022-23
LOCATION:Carrer Major, 32 - Carrer Domènec Fins, 15 08110 Montcada i Reixac
METHOD:PUBLISH
X-WR-CALNAME:oac@montcada.org
X-WR-TIMEZONE:Europe/Madrid
DESCRIPTION:
URI:https://www.montcada.cat/ajuntament/govern/agenda-politica/hemeroteca-agenda-politica/acte-cloenda-plans-docupacio-amb-2022-23.html
CLASS:PUBLIC
END:VEVENT
END:VCALENDAR
