BEGIN:VCALENDAR
VERSION:2.0
CALSCALE:GREGORIAN
PRODID:-//Diputació de Barcelona//DibaCMS//EN
BEGIN:VEVENT
UID:29785
DTSTAMP:20260422T121507
DTSTART:20240610T130000
DTEND:20240610T130000
SUMMARY:Reunió. Veí
LOCATION:Av. de la Unitat, 6 08110  Montcada i Reixac
METHOD:PUBLISH
X-WR-CALNAME:oac@montcada.org
X-WR-TIMEZONE:Europe/Madrid
DESCRIPTION:
URI:https://www.montcada.cat/ajuntament/govern/agenda-politica/hemeroteca-agenda-politica/29785-reunio-vei.html
CLASS:PUBLIC
END:VEVENT
END:VCALENDAR
