BEGIN:VCALENDAR
VERSION:2.0
CALSCALE:GREGORIAN
PRODID:-//Diputació de Barcelona//DibaCMS//EN
BEGIN:VEVENT
UID:29783
DTSTAMP:20260422T070643
DTSTART:20240609T200000
DTEND:20240609T200000
SUMMARY:Acte. Futbol: UE Sant Joan At. M - Sant Just
LOCATION:Carrer Font, s/n       08110 Montcada i Reixac
METHOD:PUBLISH
X-WR-CALNAME:oac@montcada.org
X-WR-TIMEZONE:Europe/Madrid
DESCRIPTION: Sènior A - Fase ascens

URI:https://www.montcada.cat/ajuntament/govern/agenda-politica/hemeroteca-agenda-politica/acte-futbol-ue-sant-joan-at-m-sant-just.html
CLASS:PUBLIC
END:VEVENT
END:VCALENDAR
