BEGIN:VCALENDAR
VERSION:2.0
CALSCALE:GREGORIAN
PRODID:-//Diputació de Barcelona//DibaCMS//EN
BEGIN:VEVENT
UID:29781
DTSTAMP:20260422T094114
DTSTART:20240608T181500
DTEND:20240608T181500
SUMMARY:Acte. Futbol sala: FB Montcada - Badalonés (sènior A)
LOCATION:
METHOD:PUBLISH
X-WR-CALNAME:oac@montcada.org
X-WR-TIMEZONE:Europe/Madrid
DESCRIPTION:
URI:https://www.montcada.cat/ajuntament/govern/agenda-politica/hemeroteca-agenda-politica/acte-futbol-sala-fb-montcada-badalones-senior-a.html
CLASS:PUBLIC
END:VEVENT
END:VCALENDAR
