BEGIN:VCALENDAR
VERSION:2.0
CALSCALE:GREGORIAN
PRODID:-//Diputació de Barcelona//DibaCMS//EN
BEGIN:VEVENT
UID:29750
DTSTAMP:20260426T003018
DTSTART:20240609T103000
DTEND:20240609T133000
SUMMARY:Dia de les papallones
LOCATION:El punt de trobada per les activitats al Turó de Montcada és al camí de la font de la Mitja Costa, carrer Reixac amb carrer camí de Sant Iscle, davant del cartell del Parc Natural de la Serra de Collserola.
Estació de trens a 5 minuts R4 i R7, estació Santa Maria de Montcada. 
METHOD:PUBLISH
X-WR-CALNAME:oac@montcada.org
X-WR-TIMEZONE:Europe/Madrid
DESCRIPTION:
URI:https://www.montcada.cat/actualitat/agenda/29750-dia-de-les-papallones.html
CLASS:PUBLIC
END:VEVENT
END:VCALENDAR
