BEGIN:VCALENDAR
VERSION:2.0
CALSCALE:GREGORIAN
PRODID:-//Diputació de Barcelona//DibaCMS//EN
BEGIN:VEVENT
UID:29721
DTSTAMP:20260422T095542
DTSTART:20240606T173000
DTEND:20240606T173000
SUMMARY:Acte. Veredicte i lliurament de premis III Jocs Florals per a persones grans
LOCATION:Carrer Montiu 08110 Montcada i Reixac
METHOD:PUBLISH
X-WR-CALNAME:oac@montcada.org
X-WR-TIMEZONE:Europe/Madrid
DESCRIPTION:
URI:https://www.montcada.cat/ajuntament/govern/agenda-politica/hemeroteca-agenda-politica/acte-veredicte-i-lliurament-de-premis-iii-jocs-florals-per-a-persones-grans.html
CLASS:PUBLIC
END:VEVENT
END:VCALENDAR
