BEGIN:VCALENDAR
VERSION:2.0
CALSCALE:GREGORIAN
PRODID:-//Diputació de Barcelona//DibaCMS//EN
BEGIN:VEVENT
UID:29717
DTSTAMP:20260422T095847
DTSTART:20240605T160000
DTEND:20240605T160000
SUMMARY:Reunió. Consell escolar escola Elvira Cuyàs
LOCATION:Carrer Baix de Sant Pere, 15       08110 Montcada i Reixac
METHOD:PUBLISH
X-WR-CALNAME:oac@montcada.org
X-WR-TIMEZONE:Europe/Madrid
DESCRIPTION:
URI:https://www.montcada.cat/ajuntament/govern/agenda-politica/hemeroteca-agenda-politica/reunio-consell-escolar-escola-elvira-cuyas.html
CLASS:PUBLIC
END:VEVENT
END:VCALENDAR
