BEGIN:VCALENDAR
VERSION:2.0
CALSCALE:GREGORIAN
PRODID:-//Diputació de Barcelona//DibaCMS//EN
BEGIN:VEVENT
UID:29706
DTSTAMP:20260422T070732
DTSTART:20240609T130000
DTEND:20240609T130000
SUMMARY:Acte. Arrossada popular de Reixac
LOCATION:Carretera de la Vallençana, km 7  08110 Montcada i Reixac
METHOD:PUBLISH
X-WR-CALNAME:oac@montcada.org
X-WR-TIMEZONE:Europe/Madrid
DESCRIPTION:
URI:https://www.montcada.cat/ajuntament/govern/agenda-politica/hemeroteca-agenda-politica/acte-arrossada-popular-de-reixac.html
CLASS:PUBLIC
END:VEVENT
END:VCALENDAR
