BEGIN:VCALENDAR
VERSION:2.0
CALSCALE:GREGORIAN
PRODID:-//Diputació de Barcelona//DibaCMS//EN
BEGIN:VEVENT
UID:29701
DTSTAMP:20260422T095629
DTSTART:20240607T123000
DTEND:20240607T123000
SUMMARY:Acte.  Reconeixement alumnes Montserrat Miró
LOCATION:Carrer Major, 32 - Carrer Domènec Fins, 15 08110 Montcada i Reixac
METHOD:PUBLISH
X-WR-CALNAME:oac@montcada.org
X-WR-TIMEZONE:Europe/Madrid
DESCRIPTION:Premi Barcelona Activa

URI:https://www.montcada.cat/ajuntament/govern/agenda-politica/hemeroteca-agenda-politica/acte-reconeixement-alumnes-montserrat-miro.html
CLASS:PUBLIC
END:VEVENT
END:VCALENDAR
