BEGIN:VCALENDAR
VERSION:2.0
CALSCALE:GREGORIAN
PRODID:-//Diputació de Barcelona//DibaCMS//EN
BEGIN:VEVENT
UID:29696
DTSTAMP:20260422T071600
DTSTART:20240616T103000
DTEND:20240616T180000
SUMMARY:Festa del Casal Casa de la Mina
LOCATION:Avinguda de la Unitat, s/n 08110 Montcada i Reixac
METHOD:PUBLISH
X-WR-CALNAME:oac@montcada.org
X-WR-TIMEZONE:Europe/Madrid
DESCRIPTION:
URI:https://www.montcada.cat/actualitat/agenda/festa-del-casal-casa-de-la-mina.html
CLASS:PUBLIC
END:VEVENT
END:VCALENDAR
