BEGIN:VCALENDAR
VERSION:2.0
CALSCALE:GREGORIAN
PRODID:-//Diputació de Barcelona//DibaCMS//EN
BEGIN:VEVENT
UID:29695
DTSTAMP:20260422T081728
DTSTART:20240615T193000
DTEND:20240615T193000
SUMMARY:Festa de final de curs l'Alzina i Casino de Terra Nostra
LOCATION:Plaça del Poble 08110 Montcada i Reixac
METHOD:PUBLISH
X-WR-CALNAME:oac@montcada.org
X-WR-TIMEZONE:Europe/Madrid
DESCRIPTION:
URI:https://www.montcada.cat/actualitat/agenda/festa-de-final-de-curs-lalzina-i-casino-de-terra-nostra.html
CLASS:PUBLIC
END:VEVENT
END:VCALENDAR
