BEGIN:VCALENDAR
VERSION:2.0
CALSCALE:GREGORIAN
PRODID:-//Diputació de Barcelona//DibaCMS//EN
BEGIN:VEVENT
UID:29694
DTSTAMP:20260422T042116
DTSTART:20240703T170000
DTEND:20240703T200000
SUMMARY:Festa d'Estiu a La Ribera
LOCATION:plaça de la ribera, 0 08110 Montcada i Reixac
METHOD:PUBLISH
X-WR-CALNAME:oac@montcada.org
X-WR-TIMEZONE:Europe/Madrid
DESCRIPTION:Nova data! Aplaçada de l'11 de juny al 3 de juliol per causes meteorològiques

URI:https://www.montcada.cat/actualitat/agenda/29694-festa-destiu-a-la-ribera.html
CLASS:PUBLIC
END:VEVENT
END:VCALENDAR
