BEGIN:VCALENDAR
VERSION:2.0
CALSCALE:GREGORIAN
PRODID:-//Diputació de Barcelona//DibaCMS//EN
BEGIN:VEVENT
UID:29692
DTSTAMP:20260426T000521
DTSTART:20240605T170000
DTEND:20240605T170000
SUMMARY:Dia Mundial del Medi Ambient
LOCATION:08110 Montcada i Reixac
METHOD:PUBLISH
X-WR-CALNAME:oac@montcada.org
X-WR-TIMEZONE:Europe/Madrid
DESCRIPTION:La ciutat cosmopolita que volia ser bonica

URI:https://www.montcada.cat/actualitat/agenda/dia-mundial-del-medi-ambient.html
CLASS:PUBLIC
END:VEVENT
END:VCALENDAR
