BEGIN:VCALENDAR
VERSION:2.0
CALSCALE:GREGORIAN
PRODID:-//Diputació de Barcelona//DibaCMS//EN
BEGIN:VEVENT
UID:29682
DTSTAMP:20260422T121630
DTSTART:20240601T203000
DTEND:20240601T203000
SUMMARY:Acte. Festa major Font Pudentda-Muntanyeta
LOCATION:Progrés, 0 / Vapor, 0 (Polígon La Ferreria) 08110 Montcada i Reixac
METHOD:PUBLISH
X-WR-CALNAME:oac@montcada.org
X-WR-TIMEZONE:Europe/Madrid
DESCRIPTION:Tarda d'humor + Orquestra

URI:https://www.montcada.cat/ajuntament/govern/agenda-politica/hemeroteca-agenda-politica/acte-festa-major-font-pudentda-muntanyeta.html
CLASS:PUBLIC
END:VEVENT
END:VCALENDAR
