BEGIN:VCALENDAR
VERSION:2.0
CALSCALE:GREGORIAN
PRODID:-//Diputació de Barcelona//DibaCMS//EN
BEGIN:VEVENT
UID:29681
DTSTAMP:20260422T084011
DTSTART:20240601T173000
DTEND:20240601T173000
SUMMARY:Acte. Festa major Font Pudenta-Muntanyeta
LOCATION:Carrer Quarters 
METHOD:PUBLISH
X-WR-CALNAME:oac@montcada.org
X-WR-TIMEZONE:Europe/Madrid
DESCRIPTION:Actuació castellera

URI:https://www.montcada.cat/ajuntament/govern/agenda-politica/hemeroteca-agenda-politica/29681-acte-festa-major-font-pudenta-muntanyeta.html
CLASS:PUBLIC
END:VEVENT
END:VCALENDAR
