BEGIN:VCALENDAR
VERSION:2.0
CALSCALE:GREGORIAN
PRODID:-//Diputació de Barcelona//DibaCMS//EN
BEGIN:VEVENT
UID:29680
DTSTAMP:20260422T160934
DTSTART:20240601T170000
DTEND:20240601T170000
SUMMARY:Acte. Festa major Font Pudenta-Muntanyeta
LOCATION:Progrés, 0 / Vapor, 0 (Polígon La Ferreria) 08110 Montcada i Reixac
METHOD:PUBLISH
X-WR-CALNAME:oac@montcada.org
X-WR-TIMEZONE:Europe/Madrid
DESCRIPTION:Batucada

URI:https://www.montcada.cat/ajuntament/govern/agenda-politica/hemeroteca-agenda-politica/29680-acte-festa-major-font-pudenta-muntanyeta.html
CLASS:PUBLIC
END:VEVENT
END:VCALENDAR
