BEGIN:VCALENDAR
VERSION:2.0
CALSCALE:GREGORIAN
PRODID:-//Diputació de Barcelona//DibaCMS//EN
BEGIN:VEVENT
UID:29641
DTSTAMP:20260422T174116
DTSTART:20240531T150000
DTEND:20240531T150000
SUMMARY:Reunió. AV Can Sant Joan
LOCATION:
METHOD:PUBLISH
X-WR-CALNAME:oac@montcada.org
X-WR-TIMEZONE:Europe/Madrid
DESCRIPTION:Tema: festa major del barri

URI:https://www.montcada.cat/ajuntament/govern/agenda-politica/hemeroteca-agenda-politica/29641-reunio-av-can-sant-joan.html
CLASS:PUBLIC
END:VEVENT
END:VCALENDAR
