BEGIN:VCALENDAR
VERSION:2.0
CALSCALE:GREGORIAN
PRODID:-//Diputació de Barcelona//DibaCMS//EN
BEGIN:VEVENT
UID:29640
DTSTAMP:20260425T140504
DTSTART:20240626T190000
DTEND:20240626T190000
SUMMARY:Club de lectura feminista. Mujeres y poder
LOCATION: c. Tarragona, 32       08110 Montcada i Reixac
METHOD:PUBLISH
X-WR-CALNAME:oac@montcada.org
X-WR-TIMEZONE:Europe/Madrid
DESCRIPTION:De Mary Beard

URI:https://www.montcada.cat/actualitat/agenda/club-de-lectura-feminista-mujeres-y-poder.html
CLASS:PUBLIC
END:VEVENT
END:VCALENDAR
