BEGIN:VCALENDAR
VERSION:2.0
CALSCALE:GREGORIAN
PRODID:-//Diputació de Barcelona//DibaCMS//EN
BEGIN:VEVENT
UID:29637
DTSTAMP:20260425T212007
DTSTART:20240611T190000
DTEND:20240611T190000
SUMMARY:Club de lectura de novel·la. La noia del tren
LOCATION: c. Tarragona, 32       08110 Montcada i Reixac
METHOD:PUBLISH
X-WR-CALNAME:oac@montcada.org
X-WR-TIMEZONE:Europe/Madrid
DESCRIPTION:De Joan Paula Hawkins

URI:https://www.montcada.cat/actualitat/agenda/club-de-lectura-de-novella-la-noia-del-tren.html
CLASS:PUBLIC
END:VEVENT
END:VCALENDAR
