BEGIN:VCALENDAR
VERSION:2.0
CALSCALE:GREGORIAN
PRODID:-//Diputació de Barcelona//DibaCMS//EN
BEGIN:VEVENT
UID:29636
DTSTAMP:20260426T000413
DTSTART:20240604T183000
DTEND:20240604T183000
SUMMARY:Club de lectura jove. El color de la magia
LOCATION: c. Tarragona, 32       08110 Montcada i Reixac
METHOD:PUBLISH
X-WR-CALNAME:oac@montcada.org
X-WR-TIMEZONE:Europe/Madrid
DESCRIPTION:De Terry Pratchett

URI:https://www.montcada.cat/actualitat/agenda/club-de-lectura-jove-el-color-de-la-magia.html
CLASS:PUBLIC
END:VEVENT
END:VCALENDAR
