BEGIN:VCALENDAR
VERSION:2.0
CALSCALE:GREGORIAN
PRODID:-//Diputació de Barcelona//DibaCMS//EN
BEGIN:VEVENT
UID:29635
DTSTAMP:20260425T181046
DTSTART:20240619T173000
DTEND:20240619T173000
SUMMARY:Taller infantil. Fang mariner
LOCATION: c. Tarragona, 32       08110 Montcada i Reixac
METHOD:PUBLISH
X-WR-CALNAME:oac@montcada.org
X-WR-TIMEZONE:Europe/Madrid
DESCRIPTION:A càrrec d'Activijoc

URI:https://www.montcada.cat/actualitat/agenda/29635-taller-infantil-fang-mariner.html
CLASS:PUBLIC
END:VEVENT
END:VCALENDAR
