BEGIN:VCALENDAR
VERSION:2.0
CALSCALE:GREGORIAN
PRODID:-//Diputació de Barcelona//DibaCMS//EN
BEGIN:VEVENT
UID:29633
DTSTAMP:20260426T000228
DTSTART:20240610T173000
DTEND:20240610T173000
SUMMARY:Hora del conte. Pum! Contes d'una bruixa llaminera
LOCATION: c. Turó, 45       08110 Montcada i Reixac
METHOD:PUBLISH
X-WR-CALNAME:oac@montcada.org
X-WR-TIMEZONE:Europe/Madrid
DESCRIPTION:A càrrec de Sherezade Bardají

URI:https://www.montcada.cat/actualitat/agenda/29633-hora-del-conte-pum-contes-duna-bruixa-llaminera.html
CLASS:PUBLIC
END:VEVENT
END:VCALENDAR
