BEGIN:VCALENDAR
VERSION:2.0
CALSCALE:GREGORIAN
PRODID:-//Diputació de Barcelona//DibaCMS//EN
BEGIN:VEVENT
UID:29632
DTSTAMP:20260426T061437
DTSTART:20240603T173000
DTEND:20240603T173000
SUMMARY:Hora del conte. Capgrossos i gegants de Montcada i Reixac
LOCATION: c. Tarragona, 32       08110 Montcada i Reixac
METHOD:PUBLISH
X-WR-CALNAME:oac@montcada.org
X-WR-TIMEZONE:Europe/Madrid
DESCRIPTION:A càrrec de personal de la biblioteca

URI:https://www.montcada.cat/actualitat/agenda/hora-del-conte-capgrossos-i-gegants-de-montcada-i-reixac.html
CLASS:PUBLIC
END:VEVENT
END:VCALENDAR
