BEGIN:VCALENDAR
VERSION:2.0
CALSCALE:GREGORIAN
PRODID:-//Diputació de Barcelona//DibaCMS//EN
BEGIN:VEVENT
UID:29630
DTSTAMP:20260426T000947
DTSTART:20240604T180000
DTEND:20240728T140000
SUMMARY:Exposició. Autoretrats
LOCATION: pl. de l'Església, 12       08110 Montcada i Reixac
METHOD:PUBLISH
X-WR-CALNAME:oac@montcada.org
X-WR-TIMEZONE:Europe/Madrid
DESCRIPTION:L'autoretrat a Catalunya al segle XX

URI:https://www.montcada.cat/actualitat/agenda/exposicio-autoretrats.html
CLASS:PUBLIC
END:VEVENT
END:VCALENDAR
