BEGIN:VCALENDAR
VERSION:2.0
CALSCALE:GREGORIAN
PRODID:-//Diputació de Barcelona//DibaCMS//EN
BEGIN:VEVENT
UID:29628
DTSTAMP:20260422T162302
DTSTART:20240530T120000
DTEND:20240530T120000
SUMMARY:Visita. DiLTET a La Unió
LOCATION:Avinguda Catalunya, 16-18       08110 Montcada i Reixac
METHOD:PUBLISH
X-WR-CALNAME:oac@montcada.org
X-WR-TIMEZONE:Europe/Madrid
DESCRIPTION:
URI:https://www.montcada.cat/ajuntament/govern/agenda-politica/hemeroteca-agenda-politica/visita-diltet-a-la-unio.html
CLASS:PUBLIC
END:VEVENT
END:VCALENDAR
