BEGIN:VCALENDAR
VERSION:2.0
CALSCALE:GREGORIAN
PRODID:-//Diputació de Barcelona//DibaCMS//EN
BEGIN:VEVENT
UID:29610
DTSTAMP:20260422T082524
DTSTART:20240603T170000
DTEND:20240603T170000
SUMMARY:Reunió. Esplai per la Dona
LOCATION:Carrer Major, 32 - Carrer Domènec Fins, 15 08110 Montcada i Reixac
METHOD:PUBLISH
X-WR-CALNAME:oac@montcada.org
X-WR-TIMEZONE:Europe/Madrid
DESCRIPTION:
URI:https://www.montcada.cat/ajuntament/govern/agenda-politica/hemeroteca-agenda-politica/reunio-esplai-per-la-dona.html
CLASS:PUBLIC
END:VEVENT
END:VCALENDAR
