BEGIN:VCALENDAR
VERSION:2.0
CALSCALE:GREGORIAN
PRODID:-//Diputació de Barcelona//DibaCMS//EN
BEGIN:VEVENT
UID:29609
DTSTAMP:20260422T110430
DTSTART:20240601T000000
DTEND:20240601T000000
SUMMARY:Acte. Actuació DJ Caqui
LOCATION:Progrés, 0 / Vapor, 0 (Polígon La Ferreria) 08110 Montcada i Reixac
METHOD:PUBLISH
X-WR-CALNAME:oac@montcada.org
X-WR-TIMEZONE:Europe/Madrid
DESCRIPTION:Festa Major Font Pudenta

URI:https://www.montcada.cat/ajuntament/govern/agenda-politica/hemeroteca-agenda-politica/acte-actuacio-dj-caqui.html
CLASS:PUBLIC
END:VEVENT
END:VCALENDAR
