BEGIN:VCALENDAR
VERSION:2.0
CALSCALE:GREGORIAN
PRODID:-//Diputació de Barcelona//DibaCMS//EN
BEGIN:VEVENT
UID:29608
DTSTAMP:20260422T122814
DTSTART:20240601T110000
DTEND:20240601T110000
SUMMARY: Acte. Visita i col·loqui 'Aigua un bé escàs. La gestió de l'espai fluvial del Besòs.'
LOCATION:
METHOD:PUBLISH
X-WR-CALNAME:oac@montcada.org
X-WR-TIMEZONE:Europe/Madrid
DESCRIPTION:
URI:https://www.montcada.cat/ajuntament/govern/agenda-politica/hemeroteca-agenda-politica/-acte-visita-i-colloqui-aigua-un-be-escas-la-gestio-de-lespai-fluvial-del-besos.html
CLASS:PUBLIC
END:VEVENT
END:VCALENDAR
