BEGIN:VCALENDAR
VERSION:2.0
CALSCALE:GREGORIAN
PRODID:-//Diputació de Barcelona//DibaCMS//EN
BEGIN:VEVENT
UID:29606
DTSTAMP:20260422T202433
DTSTART:20240531T163000
DTEND:20240531T163000
SUMMARY:Acte. Festa final curs institut-escola El Viver
LOCATION:Carrer Font, s/n       08110 Montcada i Reixac
METHOD:PUBLISH
X-WR-CALNAME:oac@montcada.org
X-WR-TIMEZONE:Europe/Madrid
DESCRIPTION:
URI:https://www.montcada.cat/ajuntament/govern/agenda-politica/hemeroteca-agenda-politica/acte-festa-final-curs-institut-escola-el-viver.html
CLASS:PUBLIC
END:VEVENT
END:VCALENDAR
