BEGIN:VCALENDAR
VERSION:2.0
CALSCALE:GREGORIAN
PRODID:-//Diputació de Barcelona//DibaCMS//EN
BEGIN:VEVENT
UID:29605
DTSTAMP:20260422T161402
DTSTART:20240531T100000
DTEND:20240531T100000
SUMMARY:Acte. Mercat jove gratuït d'intercanvi de roba
LOCATION:Carrer Progrés, 57 08110 Montcada i Reixac
METHOD:PUBLISH
X-WR-CALNAME:oac@montcada.org
X-WR-TIMEZONE:Europe/Madrid
DESCRIPTION:
URI:https://www.montcada.cat/ajuntament/govern/agenda-politica/hemeroteca-agenda-politica/acte-mercat-jove-gratuit-dintercanvi-de-roba.html
CLASS:PUBLIC
END:VEVENT
END:VCALENDAR
