BEGIN:VCALENDAR
VERSION:2.0
CALSCALE:GREGORIAN
PRODID:-//Diputació de Barcelona//DibaCMS//EN
BEGIN:VEVENT
UID:29602
DTSTAMP:20260422T161251
DTSTART:20240531T163000
DTEND:20240531T163000
SUMMARY:Acte. Festa final curs escola Elvira Cuyàs
LOCATION:Carrer Baix de Sant Pere, 15       08110 Montcada i Reixac
METHOD:PUBLISH
X-WR-CALNAME:oac@montcada.org
X-WR-TIMEZONE:Europe/Madrid
DESCRIPTION:
URI:https://www.montcada.cat/ajuntament/govern/agenda-politica/hemeroteca-agenda-politica/acte-festa-final-curs-escola-elvira-cuyas.html
CLASS:PUBLIC
END:VEVENT
END:VCALENDAR
