BEGIN:VCALENDAR
VERSION:2.0
CALSCALE:GREGORIAN
PRODID:-//Diputació de Barcelona//DibaCMS//EN
BEGIN:VEVENT
UID:29601
DTSTAMP:20260425T222736
DTSTART:20240606T173000
DTEND:20240606T173000
SUMMARY:Veredicte i lliurament de premis III Jocs florals gent gran
LOCATION:Carrer Montiu 08110 Montcada i Reixac
METHOD:PUBLISH
X-WR-CALNAME:oac@montcada.org
X-WR-TIMEZONE:Europe/Madrid
DESCRIPTION:
URI:https://www.montcada.cat/actualitat/agenda/veredicte-i-lliurament-de-premis-iii-jocs-florals-gent-gran.html
CLASS:PUBLIC
END:VEVENT
END:VCALENDAR
