BEGIN:VCALENDAR
VERSION:2.0
CALSCALE:GREGORIAN
PRODID:-//Diputació de Barcelona//DibaCMS//EN
BEGIN:VEVENT
UID:29599
DTSTAMP:20260426T014812
DTSTART:20240601T110000
DTEND:20240601T110000
SUMMARY:Marató de pòdcast
LOCATION:Carrer Colon, 5       08110 Montcada i Reixac
METHOD:PUBLISH
X-WR-CALNAME:oac@montcada.org
X-WR-TIMEZONE:Europe/Madrid
DESCRIPTION:
URI:https://www.montcada.cat/actualitat/agenda/marato-de-podcast.html
CLASS:PUBLIC
END:VEVENT
END:VCALENDAR
