BEGIN:VCALENDAR
VERSION:2.0
CALSCALE:GREGORIAN
PRODID:-//Diputació de Barcelona//DibaCMS//EN
BEGIN:VEVENT
UID:29598
DTSTAMP:20260426T062506
DTSTART:20240528T193000
DTEND:20240528T193000
SUMMARY:Lliurament premis concurs fotografies Festa Major 2024
LOCATION: pl. de l'Església, 12       08110 Montcada i Reixac
METHOD:PUBLISH
X-WR-CALNAME:oac@montcada.org
X-WR-TIMEZONE:Europe/Madrid
DESCRIPTION:
URI:https://www.montcada.cat/actualitat/agenda/lliurament-premis-concurs-fotografies-festa-major-2024.html
CLASS:PUBLIC
END:VEVENT
END:VCALENDAR
