BEGIN:VCALENDAR
VERSION:2.0
CALSCALE:GREGORIAN
PRODID:-//Diputació de Barcelona//DibaCMS//EN
BEGIN:VEVENT
UID:29577
DTSTAMP:20260422T160253
DTSTART:20240528T183000
DTEND:20240528T183000
SUMMARY:Acte. Xerrada-col·loqui. El pes de la història a la identitat blaugrana
LOCATION: pl. de l'Església, 12       08110 Montcada i Reixac
METHOD:PUBLISH
X-WR-CALNAME:oac@montcada.org
X-WR-TIMEZONE:Europe/Madrid
DESCRIPTION:
URI:https://www.montcada.cat/ajuntament/govern/agenda-politica/hemeroteca-agenda-politica/acte-xerrada-colloqui-el-pes-de-la-historia-a-la-identitat-blaugrana.html
CLASS:PUBLIC
END:VEVENT
END:VCALENDAR
