BEGIN:VCALENDAR
VERSION:2.0
CALSCALE:GREGORIAN
PRODID:-//Diputació de Barcelona//DibaCMS//EN
BEGIN:VEVENT
UID:29574
DTSTAMP:20260422T123144
DTSTART:20240528T110000
DTEND:20240528T110000
SUMMARY:Reunió. Gremi d´Hostaleria del Vallès Occidental i el Barcelonès
LOCATION:Gremi d’Hostaleria del Vallès Occ. i Barcelonès
Avinguda Ferreria núm. 12 (08110)
Montcada i Reixac  
METHOD:PUBLISH
X-WR-CALNAME:oac@montcada.org
X-WR-TIMEZONE:Europe/Madrid
DESCRIPTION:
URI:https://www.montcada.cat/ajuntament/govern/agenda-politica/hemeroteca-agenda-politica/reunio-gremi-dhostaleria-del-valles-occidental-i-el-barcelones.html
CLASS:PUBLIC
END:VEVENT
END:VCALENDAR
