BEGIN:VCALENDAR
VERSION:2.0
CALSCALE:GREGORIAN
PRODID:-//Diputació de Barcelona//DibaCMS//EN
BEGIN:VEVENT
UID:29568
DTSTAMP:20260426T060333
DTSTART:20240531T110000
DTEND:20240531T120000
SUMMARY:Taller de risoteràpia
LOCATION:Carrer Geranis, s/n       08110 Montcada i Reixac
METHOD:PUBLISH
X-WR-CALNAME:oac@montcada.org
X-WR-TIMEZONE:Europe/Madrid
DESCRIPTION:
URI:https://www.montcada.cat/actualitat/agenda/29568-taller-de-risoterapia.html
CLASS:PUBLIC
END:VEVENT
END:VCALENDAR
