BEGIN:VCALENDAR
VERSION:2.0
CALSCALE:GREGORIAN
PRODID:-//Diputació de Barcelona//DibaCMS//EN
BEGIN:VEVENT
UID:29566
DTSTAMP:20260426T001038
DTSTART:20240606T183000
DTEND:20240608T130000
SUMMARY:Tallers de cura emocional a través de la música
LOCATION:Carrer Major, 32 - Carrer Domènec Fins, 15 08110 Montcada i Reixac
METHOD:PUBLISH
X-WR-CALNAME:oac@montcada.org
X-WR-TIMEZONE:Europe/Madrid
DESCRIPTION:
URI:https://www.montcada.cat/actualitat/agenda/tallers-de-cura-emocional-a-traves-de-la-musica.html
CLASS:PUBLIC
END:VEVENT
END:VCALENDAR
