BEGIN:VCALENDAR
VERSION:2.0
CALSCALE:GREGORIAN
PRODID:-//Diputació de Barcelona//DibaCMS//EN
BEGIN:VEVENT
UID:29565
DTSTAMP:20260426T013734
DTSTART:20240528T180000
DTEND:20240528T193000
SUMMARY:Taula rodona. Salut mental i dona
LOCATION:Avinguda de la Unitat, s/n 08110 Montcada i Reixac
METHOD:PUBLISH
X-WR-CALNAME:oac@montcada.org
X-WR-TIMEZONE:Europe/Madrid
DESCRIPTION:A càrrec de les metgesses, Margarita Vidal i Marian Ucero, i de la psicòloga referent de benestar emocional, Marcela Torres, (CAPs Montcada i Indianes)

URI:https://www.montcada.cat/actualitat/agenda/taula-rodona-salut-mental-i-dona.html
CLASS:PUBLIC
END:VEVENT
END:VCALENDAR
