BEGIN:VCALENDAR
VERSION:2.0
CALSCALE:GREGORIAN
PRODID:-//Diputació de Barcelona//DibaCMS//EN
BEGIN:VEVENT
UID:29502
DTSTAMP:20260425T154627
DTSTART:20240626T100000
DTEND:20240626T113000
SUMMARY:'Black tour, la ruta de les vulneracions
LOCATION:Carrer Balmes, 16       08110 Montcada i Reixac
METHOD:PUBLISH
X-WR-CALNAME:oac@montcada.org
X-WR-TIMEZONE:Europe/Madrid
DESCRIPTION:Cal inscripció prèvia a cantauler@montcada.org

URI:https://www.montcada.cat/actualitat/agenda/black-tour-la-ruta-de-les-vulneracions.html
CLASS:PUBLIC
END:VEVENT
END:VCALENDAR
