BEGIN:VCALENDAR
VERSION:2.0
CALSCALE:GREGORIAN
PRODID:-//Diputació de Barcelona//DibaCMS//EN
BEGIN:VEVENT
UID:29501
DTSTAMP:20260426T031820
DTSTART:20240610T180000
DTEND:20240610T180000
SUMMARY:Taller. No perdis flassada, recicla't la samarreta
LOCATION:Carrer Balmes, 16       08110 Montcada i Reixac
METHOD:PUBLISH
X-WR-CALNAME:oac@montcada.org
X-WR-TIMEZONE:Europe/Madrid
DESCRIPTION:Per a la realització d'aquest taller, cal dur una samarreta vella de casa

URI:https://www.montcada.cat/actualitat/agenda/29501-taller-no-perdis-flassada-reciclat-la-samarreta.html
CLASS:PUBLIC
END:VEVENT
END:VCALENDAR
