BEGIN:VCALENDAR
VERSION:2.0
CALSCALE:GREGORIAN
PRODID:-//Diputació de Barcelona//DibaCMS//EN
BEGIN:VEVENT
UID:29500
DTSTAMP:20260426T014942
DTSTART:20240531T180000
DTEND:20240531T180000
SUMMARY:Taller. Tapes i platets vegetarians amb producte de comerç just
LOCATION:Carrer Balmes, 16       08110 Montcada i Reixac
METHOD:PUBLISH
X-WR-CALNAME:oac@montcada.org
X-WR-TIMEZONE:Europe/Madrid
DESCRIPTION:
URI:https://www.montcada.cat/actualitat/agenda/taller-tapes-i-platets-vegetarians-amb-producte-de-comerc-just.html
CLASS:PUBLIC
END:VEVENT
END:VCALENDAR
